BEGIN:VCALENDAR
VERSION:2.0
PRODID:-//Anna Jae Music - ECPv6.7.0//NONSGML v1.0//EN
CALSCALE:GREGORIAN
METHOD:PUBLISH
X-ORIGINAL-URL:https://annajae.com
X-WR-CALDESC:Events for Anna Jae Music
REFRESH-INTERVAL;VALUE=DURATION:PT1H
X-Robots-Tag:noindex
X-PUBLISHED-TTL:PT1H
BEGIN:VTIMEZONE
TZID:America/Los_Angeles
BEGIN:DAYLIGHT
TZOFFSETFROM:-0800
TZOFFSETTO:-0700
TZNAME:PDT
DTSTART:20250309T100000
END:DAYLIGHT
BEGIN:STANDARD
TZOFFSETFROM:-0700
TZOFFSETTO:-0800
TZNAME:PST
DTSTART:20251102T090000
END:STANDARD
END:VTIMEZONE
BEGIN:VEVENT
DTSTART;TZID=America/Los_Angeles:20250218T190000
DTEND;TZID=America/Los_Angeles:20250218T220000
DTSTAMP:20260421T050615
CREATED:20250113T235721Z
LAST-MODIFIED:20250113T235721Z
UID:230-1739905200-1739916000@annajae.com
SUMMARY:Anna Jae Acoustic
DESCRIPTION:
URL:https://annajae.com/event/anna-jae-acoustic-3/
LOCATION:The Big Easy\, 128 American Alley\, Petaluma\, CA\, 94952\, United States
END:VEVENT
END:VCALENDAR