BEGIN:VCALENDAR
VERSION:2.0
PRODID:-//Anna Jae Music - ECPv6.7.0//NONSGML v1.0//EN
CALSCALE:GREGORIAN
METHOD:PUBLISH
X-WR-CALNAME:Anna Jae Music
X-ORIGINAL-URL:https://annajae.com
X-WR-CALDESC:Events for Anna Jae Music
REFRESH-INTERVAL;VALUE=DURATION:PT1H
X-Robots-Tag:noindex
X-PUBLISHED-TTL:PT1H
BEGIN:VTIMEZONE
TZID:America/Los_Angeles
BEGIN:DAYLIGHT
TZOFFSETFROM:-0800
TZOFFSETTO:-0700
TZNAME:PDT
DTSTART:20250309T100000
END:DAYLIGHT
BEGIN:STANDARD
TZOFFSETFROM:-0700
TZOFFSETTO:-0800
TZNAME:PST
DTSTART:20251102T090000
END:STANDARD
END:VTIMEZONE
BEGIN:VEVENT
DTSTART;TZID=America/Los_Angeles:20250301T170000
DTEND;TZID=America/Los_Angeles:20250301T200000
DTSTAMP:20260421T022024
CREATED:20250223T051136Z
LAST-MODIFIED:20250223T054801Z
UID:244-1740848400-1740859200@annajae.com
SUMMARY:Anna Jae Duo at The Block
DESCRIPTION:
URL:https://annajae.com/event/anna-jae-duo-2/
LOCATION:The Block\, 20 Grey St\, Petaluma\, CA\, 94952\, United States
END:VEVENT
END:VCALENDAR