BEGIN:VCALENDAR
VERSION:2.0
PRODID:-//Anna Jae Music - ECPv6.7.0//NONSGML v1.0//EN
CALSCALE:GREGORIAN
METHOD:PUBLISH
X-ORIGINAL-URL:https://annajae.com
X-WR-CALDESC:Events for Anna Jae Music
REFRESH-INTERVAL;VALUE=DURATION:PT1H
X-Robots-Tag:noindex
X-PUBLISHED-TTL:PT1H
BEGIN:VTIMEZONE
TZID:America/Los_Angeles
BEGIN:DAYLIGHT
TZOFFSETFROM:-0800
TZOFFSETTO:-0700
TZNAME:PDT
DTSTART:20240310T100000
END:DAYLIGHT
BEGIN:STANDARD
TZOFFSETFROM:-0700
TZOFFSETTO:-0800
TZNAME:PST
DTSTART:20241103T090000
END:STANDARD
END:VTIMEZONE
BEGIN:VEVENT
DTSTART;TZID=America/Los_Angeles:20241213T190000
DTEND;TZID=America/Los_Angeles:20241213T210000
DTSTAMP:20260421T063227
CREATED:20241111T054759Z
LAST-MODIFIED:20241111T054800Z
UID:213-1734116400-1734123600@annajae.com
SUMMARY:Anna Jae at The Grape Escape
DESCRIPTION:
URL:https://annajae.com/event/anna-jae-at-the-grape-escape/
END:VEVENT
BEGIN:VEVENT
DTSTART;TZID=America/Los_Angeles:20241214T080000
DTEND;TZID=America/Los_Angeles:20241214T230000
DTSTAMP:20260421T063227
CREATED:20241008T172628Z
LAST-MODIFIED:20241008T172806Z
UID:86-1734163200-1734217200@annajae.com
SUMMARY:Anna Jae Band at The Redding Farmers Market
DESCRIPTION:
URL:https://annajae.com/event/anna-jae-band-at-the-block/
LOCATION:Farmers Market\, City Hall\, Redding\, 96001\, United States
END:VEVENT
BEGIN:VEVENT
DTSTART;TZID=America/Los_Angeles:20241220T190000
DTEND;TZID=America/Los_Angeles:20241220T220000
DTSTAMP:20260421T063227
CREATED:20241008T173839Z
LAST-MODIFIED:20241111T053115Z
UID:97-1734721200-1734732000@annajae.com
SUMMARY:Anna Jae Band at Rancho Nicasio
DESCRIPTION:
URL:https://annajae.com/event/anna-jae-band-at-ranch-nicasio/
LOCATION:Rancho Nicasio\, 1 Old Rancheria Rd\, Nicasio\, California\, 94956\, United States
END:VEVENT
END:VCALENDAR